BEGIN:VCALENDAR
VERSION:2.0
PRODID:-//Cal Poly CIE SBDC - ECPv6.15.20//NONSGML v1.0//EN
CALSCALE:GREGORIAN
METHOD:PUBLISH
X-ORIGINAL-URL:https://sbdc.calpoly.edu
X-WR-CALDESC:Events for Cal Poly CIE SBDC
REFRESH-INTERVAL;VALUE=DURATION:PT1H
X-Robots-Tag:noindex
X-PUBLISHED-TTL:PT1H
BEGIN:VTIMEZONE
TZID:America/Los_Angeles
BEGIN:DAYLIGHT
TZOFFSETFROM:-0800
TZOFFSETTO:-0700
TZNAME:PDT
DTSTART:20240310T100000
END:DAYLIGHT
BEGIN:STANDARD
TZOFFSETFROM:-0700
TZOFFSETTO:-0800
TZNAME:PST
DTSTART:20241103T090000
END:STANDARD
BEGIN:DAYLIGHT
TZOFFSETFROM:-0800
TZOFFSETTO:-0700
TZNAME:PDT
DTSTART:20250309T100000
END:DAYLIGHT
BEGIN:STANDARD
TZOFFSETFROM:-0700
TZOFFSETTO:-0800
TZNAME:PST
DTSTART:20251102T090000
END:STANDARD
BEGIN:DAYLIGHT
TZOFFSETFROM:-0800
TZOFFSETTO:-0700
TZNAME:PDT
DTSTART:20260308T100000
END:DAYLIGHT
BEGIN:STANDARD
TZOFFSETFROM:-0700
TZOFFSETTO:-0800
TZNAME:PST
DTSTART:20261101T090000
END:STANDARD
END:VTIMEZONE
BEGIN:VEVENT
DTSTART;TZID=America/Los_Angeles:20250320T090000
DTEND;TZID=America/Los_Angeles:20250320T103000
DTSTAMP:20260420T040800
CREATED:20250226T230634Z
LAST-MODIFIED:20250306T222956Z
UID:24765-1742461200-1742466600@sbdc.calpoly.edu
SUMMARY:The Customer Connection: Service Essentials for Restaurants
DESCRIPTION:Register \nGreat customer service is the secret ingredient to a thriving restaurant. Join us for an interactive workshop with seasoned restaurateur Ben Arrona\, who will share insider strategies to enhance guest interactions and build lasting customer loyalty. \nIn this hands-on session\, you’ll learn: \n\nProven communication techniques to engage and delight guests\nBest practices for seamless in-house and to-go service\nHow to handle customer complaints with confidence and professionalism\n\nWhether you’re a restaurant owner\, manager\, or front-line staff\, this workshop will equip your team with the tools to create memorable dining experiences that keep customers coming back. Don’t miss this opportunity to refine your service skills and set your restaurant apart!
URL:https://sbdc.calpoly.edu/event/the-customer-connection-service-essentials-for-restaurants/
LOCATION:The Launch Pad\, Grover Beach + Zoom\, 391 Front St\, Suite E\, Grover Beach\, CA\, 93433\, United States
CATEGORIES:Customer Development,Workshops
ORGANIZER;CN="Cal Poly CIE SBDC":MAILTO:slosbdc@gmail.com
END:VEVENT
BEGIN:VEVENT
DTSTART;TZID=America/Los_Angeles:20250327T090000
DTEND;TZID=America/Los_Angeles:20250327T103000
DTSTAMP:20260420T040800
CREATED:20250224T235704Z
LAST-MODIFIED:20250227T191213Z
UID:24759-1743066000-1743071400@sbdc.calpoly.edu
SUMMARY:Unlocking Modern Marketing: From Mad Men to AI
DESCRIPTION:Register \nMarketing has transformed dramatically over the past century\, evolving from traditional advertising methods to today’s AI-driven strategies. This interactive workshop gives small business owners a hands-on opportunity to explore how marketing tactics have adapted over time and how to apply these insights to modern business growth. Through real-world case studies\, expert insights\, and collaborative challenges\, participants will learn how to reach their target audience\, maximize limited resources\, and stay competitive in a rapidly changing digital landscape. \nThe session culminates in a practical exercise where attendees will develop a scalable AI-powered marketing strategy tailored to their own businesses. Whether you’re launching a new venture or looking to refine your existing marketing efforts\, this workshop will equip you with the tools and knowledge needed to navigate the future of marketing with confidence.
URL:https://sbdc.calpoly.edu/event/unlocking-modern-marketing-from-mad-men-to-ai/
LOCATION:THE SANDBOX Paso Robles + Zoom\, 1345 Park St\, Paso Robles\, California\, 93446\, United States
CATEGORIES:Marketing,Workshops
ORGANIZER;CN="Cal Poly CIE SBDC":MAILTO:slosbdc@gmail.com
END:VEVENT
END:VCALENDAR